Package: PCAtools Version: 2.21.0 Command: /home/biocbuild/R/R/bin/R CMD build --keep-empty-dirs --no-resave-data PCAtools StartedAt: 2025-10-14 02:29:44 -0000 (Tue, 14 Oct 2025) EndedAt: 2025-10-14 02:34:41 -0000 (Tue, 14 Oct 2025) EllapsedTime: 297.3 seconds RetCode: 0 Status: OK PackageFile: PCAtools_2.21.0.tar.gz PackageFileSize: 7.584 MiB