Package: PCAtools Version: 2.19.0 Command: /home/biocbuild/R/R/bin/R CMD build --keep-empty-dirs --no-resave-data PCAtools StartedAt: 2025-01-11 01:22:55 -0000 (Sat, 11 Jan 2025) EndedAt: 2025-01-11 01:26:48 -0000 (Sat, 11 Jan 2025) EllapsedTime: 233.2 seconds RetCode: 1 Status: ERROR PackageFile: None PackageFileSize: NA