Package: PAST Version: 1.25.0 Command: rm -rf PAST.buildbin-libdir && mkdir PAST.buildbin-libdir && /Users/biocbuild/BBS/utils/build-universal.sh PAST_1.25.0.tar.gz /Library/Frameworks/R.framework/Resources/bin/R PAST.buildbin-libdir StartedAt: 2025-05-28 00:53:16 -0400 (Wed, 28 May 2025) EndedAt: 2025-05-28 00:54:04 -0400 (Wed, 28 May 2025) EllapsedTime: 47.7 seconds RetCode: 0 Status: OK PackageFile: PAST_1.25.0.tgz PackageFileSize: 1008 KiB