Package: PANR Version: 1.55.0 Command: /home/biocbuild/bbs-3.22-bioc/R/bin/R CMD INSTALL PANR StartedAt: 2025-10-10 15:18:15 -0400 (Fri, 10 Oct 2025) EndedAt: 2025-10-10 15:18:42 -0400 (Fri, 10 Oct 2025) EllapsedTime: 26.4 seconds RetCode: 0 Status: OK