Package: PANR Version: 1.55.0 Command: /home/biocbuild/bbs-3.22-bioc/R/bin/R CMD build --keep-empty-dirs --no-resave-data --md5 PANR StartedAt: 2025-10-10 19:24:05 -0400 (Fri, 10 Oct 2025) EndedAt: 2025-10-10 19:24:25 -0400 (Fri, 10 Oct 2025) EllapsedTime: 20.1 seconds RetCode: 0 Status: OK PackageFile: PANR_1.55.0.tar.gz PackageFileSize: 2.115 MiB