Package: PAA Version: 1.43.0 Command: /home/biocbuild/bbs-3.22-bioc/R/bin/R CMD INSTALL PAA StartedAt: 2025-10-02 15:39:16 -0400 (Thu, 02 Oct 2025) EndedAt: 2025-10-02 15:39:56 -0400 (Thu, 02 Oct 2025) EllapsedTime: 39.9 seconds RetCode: 0 Status: OK