Package: PAA Version: 1.43.0 Command: /home/biocbuild/bbs-3.22-bioc/R/bin/R CMD build --keep-empty-dirs --no-resave-data --md5 PAA StartedAt: 2025-10-03 19:08:48 -0400 (Fri, 03 Oct 2025) EndedAt: 2025-10-03 19:11:14 -0400 (Fri, 03 Oct 2025) EllapsedTime: 145.2 seconds RetCode: 0 Status: OK PackageFile: PAA_1.43.0.tar.gz PackageFileSize: 4.141 MiB