Package: OutSplice Version: 1.9.0 Command: /Library/Frameworks/R.framework/Resources/bin/R CMD INSTALL OutSplice StartedAt: 2025-07-25 15:31:11 -0400 (Fri, 25 Jul 2025) EndedAt: 2025-07-25 15:31:25 -0400 (Fri, 25 Jul 2025) EllapsedTime: 14.3 seconds RetCode: 0 Status: OK