Package: OrganismDbi Version: 1.51.4 Command: /home/biocbuild/R/R/bin/R CMD build --keep-empty-dirs --no-resave-data OrganismDbi StartedAt: 2025-10-07 01:42:36 -0000 (Tue, 07 Oct 2025) EndedAt: 2025-10-07 01:44:03 -0000 (Tue, 07 Oct 2025) EllapsedTime: 87.1 seconds RetCode: 0 Status: OK PackageFile: OrganismDbi_1.51.4.tar.gz PackageFileSize: 410.2 KiB