Package: Organism.dplyr Version: 1.37.1 Command: chmod a+r Organism.dplyr -R && F:\biocbuild\bbs-3.22-bioc\R\bin\R.exe CMD build --keep-empty-dirs --no-resave-data Organism.dplyr StartedAt: 2025-08-14 22:05:08 -0400 (Thu, 14 Aug 2025) EndedAt: 2025-08-14 22:07:16 -0400 (Thu, 14 Aug 2025) EllapsedTime: 127.7 seconds RetCode: 0 Status: OK PackageFile: Organism.dplyr_1.37.1.tar.gz PackageFileSize: 513.9 KiB