Package: Organism.dplyr Version: 1.37.1 Command: rm -rf Organism.dplyr.buildbin-libdir && mkdir Organism.dplyr.buildbin-libdir && /Users/biocbuild/BBS/utils/build-universal.sh Organism.dplyr_1.37.1.tar.gz /Library/Frameworks/R.framework/Resources/bin/R Organism.dplyr.buildbin-libdir StartedAt: 2025-10-08 02:32:28 -0400 (Wed, 08 Oct 2025) EndedAt: 2025-10-08 02:33:25 -0400 (Wed, 08 Oct 2025) EllapsedTime: 56.7 seconds RetCode: 0 Status: OK PackageFile: Organism.dplyr_1.37.1.tgz PackageFileSize: 893 KiB