Package: OrderedList Version: 1.81.0 Command: rm -rf OrderedList.buildbin-libdir && mkdir OrderedList.buildbin-libdir && /Users/biocbuild/BBS/utils/build-universal.sh OrderedList_1.81.0.tar.gz /Library/Frameworks/R.framework/Resources/bin/R OrderedList.buildbin-libdir StartedAt: 2025-10-02 02:05:01 -0400 (Thu, 02 Oct 2025) EndedAt: 2025-10-02 02:05:09 -0400 (Thu, 02 Oct 2025) EllapsedTime: 8.2 seconds RetCode: 0 Status: OK PackageFile: OrderedList_1.81.0.tgz PackageFileSize: 1.11 MiB