Package: OrderedList Version: 1.81.0 Maintainer: Claudio Lottaz MaintainerEmail: Claudio.Lottaz at klinik.uni-regensburg.de git_url: https://git.bioconductor.org/packages/OrderedList git_branch: devel git_last_commit: 5239382 git_last_commit_date: 2025-04-15 09:38:24 -0400 (Tue, 15 Apr 2025)