Package: OncoScore Version: 1.37.0 Command: /Library/Frameworks/R.framework/Resources/bin/R CMD INSTALL OncoScore StartedAt: 2025-05-07 15:46:17 -0400 (Wed, 07 May 2025) EndedAt: 2025-05-07 15:46:37 -0400 (Wed, 07 May 2025) EllapsedTime: 19.8 seconds RetCode: 0 Status: OK