Package: OncoScore Version: 1.37.0 Command: /Library/Frameworks/R.framework/Resources/bin/R CMD check --install=check:OncoScore.install-out.txt --library=/Library/Frameworks/R.framework/Resources/library --no-vignettes --timings OncoScore_1.37.0.tar.gz StartedAt: 2025-05-08 22:21:22 -0400 (Thu, 08 May 2025) EndedAt: 2025-05-08 22:23:28 -0400 (Thu, 08 May 2025) EllapsedTime: 125.2 seconds RetCode: 0 Status: OK CheckDir: OncoScore.Rcheck Warnings: 0