Package: OncoScore Version: 1.37.0 Command: /Library/Frameworks/R.framework/Resources/bin/R CMD build --keep-empty-dirs --no-resave-data OncoScore StartedAt: 2025-05-08 17:47:03 -0400 (Thu, 08 May 2025) EndedAt: 2025-05-08 17:48:05 -0400 (Thu, 08 May 2025) EllapsedTime: 61.7 seconds RetCode: 0 Status: OK PackageFile: OncoScore_1.37.0.tar.gz PackageFileSize: 916.9 KiB