Package: OncoScore Version: 1.37.0 Command: rm -rf OncoScore.buildbin-libdir && mkdir OncoScore.buildbin-libdir && /Users/biocbuild/BBS/utils/build-universal.sh OncoScore_1.37.0.tar.gz /Library/Frameworks/R.framework/Resources/bin/R OncoScore.buildbin-libdir StartedAt: 2025-05-09 00:57:35 -0400 (Fri, 09 May 2025) EndedAt: 2025-05-09 00:57:58 -0400 (Fri, 09 May 2025) EllapsedTime: 23.2 seconds RetCode: 0 Status: OK PackageFile: OncoScore_1.37.0.tgz PackageFileSize: 970.2 KiB