Package: OmnipathR Version: 3.15.0 Command: E:\biocbuild\bbs-3.21-bioc\R\bin\R.exe CMD check --no-multiarch --install=check:OmnipathR.install-out.txt --library=E:\biocbuild\bbs-3.21-bioc\R\library --no-vignettes --timings OmnipathR_3.15.0.tar.gz StartedAt: 2025-02-01 03:24:04 -0500 (Sat, 01 Feb 2025) EndedAt: 2025-02-01 03:37:54 -0500 (Sat, 01 Feb 2025) EllapsedTime: 829.5 seconds RetCode: 0 Status: OK CheckDir: OmnipathR.Rcheck Warnings: 0