Package: OmnipathR Version: 3.15.4 Command: chmod a+r OmnipathR -R && E:\biocbuild\bbs-3.21-bioc\R\bin\R.exe CMD build --keep-empty-dirs --no-resave-data OmnipathR StartedAt: 2025-02-03 20:38:14 -0500 (Mon, 03 Feb 2025) EndedAt: 2025-02-03 20:54:33 -0500 (Mon, 03 Feb 2025) EllapsedTime: 978.7 seconds RetCode: 1 Status: ERROR PackageFile: None PackageFileSize: NA