Package: OmnipathR Version: 3.15.4 Command: /home/biocbuild/bbs-3.21-bioc/R/bin/R CMD INSTALL OmnipathR StartedAt: 2025-02-03 15:18:13 -0500 (Mon, 03 Feb 2025) EndedAt: 2025-02-03 15:18:29 -0500 (Mon, 03 Feb 2025) EllapsedTime: 16.3 seconds RetCode: 0 Status: OK