Package: OmnipathR Version: 3.15.4 Command: /home/biocbuild/bbs-3.21-bioc/R/bin/R CMD build --keep-empty-dirs --no-resave-data OmnipathR StartedAt: 2025-02-03 18:38:12 -0500 (Mon, 03 Feb 2025) EndedAt: 2025-02-03 18:39:50 -0500 (Mon, 03 Feb 2025) EllapsedTime: 98.1 seconds RetCode: 1 Status: ERROR PackageFile: None PackageFileSize: NA