Package: OmnipathR Version: 3.15.4 Command: /Library/Frameworks/R.framework/Resources/bin/R CMD INSTALL OmnipathR StartedAt: 2025-02-03 15:32:14 -0500 (Mon, 03 Feb 2025) EndedAt: 2025-02-03 15:32:42 -0500 (Mon, 03 Feb 2025) EllapsedTime: 27.8 seconds RetCode: 0 Status: OK