Package: OmnipathR Version: 3.15.4 Command: /Library/Frameworks/R.framework/Resources/bin/R CMD build --keep-empty-dirs --no-resave-data OmnipathR StartedAt: 2025-02-03 17:46:07 -0500 (Mon, 03 Feb 2025) EndedAt: 2025-02-03 18:04:21 -0500 (Mon, 03 Feb 2025) EllapsedTime: 1093.5 seconds RetCode: 1 Status: ERROR PackageFile: None PackageFileSize: NA