Package: OmicsMLRepoR Version: 1.1.2 Command: E:\biocbuild\bbs-3.21-bioc\R\bin\R.exe CMD check --no-multiarch --install=check:OmicsMLRepoR.install-out.txt --library=E:\biocbuild\bbs-3.21-bioc\R\library --no-vignettes --timings OmicsMLRepoR_1.1.2.tar.gz StartedAt: 2025-02-05 04:09:42 -0500 (Wed, 05 Feb 2025) EndedAt: 2025-02-05 04:11:40 -0500 (Wed, 05 Feb 2025) EllapsedTime: 118.4 seconds RetCode: 0 Status: OK CheckDir: OmicsMLRepoR.Rcheck Warnings: 0