Package: OmicsMLRepoR Version: 1.1.1 Command: /home/biocbuild/bbs-3.21-bioc/R/bin/R CMD INSTALL OmicsMLRepoR StartedAt: 2025-02-03 15:23:26 -0500 (Mon, 03 Feb 2025) EndedAt: 2025-02-03 15:23:33 -0500 (Mon, 03 Feb 2025) EllapsedTime: 6.8 seconds RetCode: 0 Status: OK