Package: OmicsMLRepoR Version: 1.3.3 Command: rm -rf OmicsMLRepoR.buildbin-libdir && mkdir OmicsMLRepoR.buildbin-libdir && /Users/biocbuild/BBS/utils/build-universal.sh OmicsMLRepoR_1.3.3.tar.gz /Library/Frameworks/R.framework/Resources/bin/R OmicsMLRepoR.buildbin-libdir StartedAt: 2025-10-11 02:43:36 -0400 (Sat, 11 Oct 2025) EndedAt: 2025-10-11 02:43:51 -0400 (Sat, 11 Oct 2025) EllapsedTime: 14.8 seconds RetCode: 0 Status: OK PackageFile: OmicsMLRepoR_1.3.3.tgz PackageFileSize: 323.6 KiB