Package: OmicCircos Version: 1.47.0 Command: /home/biocbuild/bbs-3.22-bioc/R/bin/R CMD build --keep-empty-dirs --no-resave-data --md5 OmicCircos StartedAt: 2025-10-02 19:05:20 -0400 (Thu, 02 Oct 2025) EndedAt: 2025-10-02 19:05:47 -0400 (Thu, 02 Oct 2025) EllapsedTime: 27.1 seconds RetCode: 0 Status: OK PackageFile: OmicCircos_1.47.0.tar.gz PackageFileSize: 2.81 MiB