Package: OmaDB Version: 2.23.0 Command: E:\biocbuild\bbs-3.21-bioc\R\bin\R.exe CMD INSTALL OmaDB StartedAt: 2025-02-16 16:46:26 -0500 (Sun, 16 Feb 2025) EndedAt: 2025-02-16 16:46:55 -0500 (Sun, 16 Feb 2025) EllapsedTime: 29.1 seconds RetCode: 0 Status: OK