Package: OmaDB Version: 2.23.0 Command: /home/biocbuild/bbs-3.21-bioc/R/bin/R CMD INSTALL OmaDB StartedAt: 2025-02-16 15:43:01 -0500 (Sun, 16 Feb 2025) EndedAt: 2025-02-16 15:43:17 -0500 (Sun, 16 Feb 2025) EllapsedTime: 15.7 seconds RetCode: 0 Status: OK