Package: OmaDB Version: 2.25.0 Command: /Library/Frameworks/R.framework/Resources/bin/R CMD check --install=check:OmaDB.install-out.txt --library=/Library/Frameworks/R.framework/Resources/library --no-vignettes --timings OmaDB_2.25.0.tar.gz StartedAt: 2025-04-27 20:28:49 -0400 (Sun, 27 Apr 2025) EndedAt: 2025-04-27 20:32:35 -0400 (Sun, 27 Apr 2025) EllapsedTime: 225.7 seconds RetCode: 0 Status: OK CheckDir: OmaDB.Rcheck Warnings: 0