Package: OmaDB Version: 2.23.0 Command: /Library/Frameworks/R.framework/Resources/bin/R CMD build --keep-empty-dirs --no-resave-data OmaDB StartedAt: 2025-02-03 17:45:12 -0500 (Mon, 03 Feb 2025) EndedAt: 2025-02-03 17:45:23 -0500 (Mon, 03 Feb 2025) EllapsedTime: 11.1 seconds RetCode: 0 Status: OK PackageFile: OmaDB_2.23.0.tar.gz PackageFileSize: 98.17 KiB