Package: OmaDB Version: 2.23.0 Command: rm -rf OmaDB.buildbin-libdir && mkdir OmaDB.buildbin-libdir && /Users/biocbuild/BBS/utils/build-universal.sh OmaDB_2.23.0.tar.gz /Library/Frameworks/R.framework/Resources/bin/R OmaDB.buildbin-libdir StartedAt: 2025-02-03 22:59:46 -0500 (Mon, 03 Feb 2025) EndedAt: 2025-02-03 22:59:54 -0500 (Mon, 03 Feb 2025) EllapsedTime: 8.1 seconds RetCode: 0 Status: OK PackageFile: OmaDB_2.23.0.tgz PackageFileSize: 180.9 KiB