Package: OUTRIDER Version: 1.27.2 Command: chmod a+r OUTRIDER -R && F:\biocbuild\bbs-3.22-bioc\R\bin\R.exe CMD build --keep-empty-dirs --no-resave-data OUTRIDER StartedAt: 2025-08-14 22:07:12 -0400 (Thu, 14 Aug 2025) EndedAt: 2025-08-14 22:22:29 -0400 (Thu, 14 Aug 2025) EllapsedTime: 917.1 seconds RetCode: 0 Status: OK PackageFile: OUTRIDER_1.27.2.tar.gz PackageFileSize: 1.734 MiB