Package: OUTRIDER Version: 1.27.2 Command: rm -rf OUTRIDER.buildbin-libdir && mkdir OUTRIDER.buildbin-libdir && F:\biocbuild\bbs-3.22-bioc\R\bin\R.exe CMD INSTALL --build --library=OUTRIDER.buildbin-libdir OUTRIDER_1.27.2.tar.gz StartedAt: 2025-08-15 10:54:31 -0400 (Fri, 15 Aug 2025) EndedAt: 2025-08-15 10:57:05 -0400 (Fri, 15 Aug 2025) EllapsedTime: 154.7 seconds RetCode: 0 Status: OK PackageFile: OUTRIDER_1.27.2.zip PackageFileSize: 2.131 MiB