Package: OUTRIDER Version: 1.27.0 Command: /Library/Frameworks/R.framework/Resources/bin/R CMD build --keep-empty-dirs --no-resave-data OUTRIDER StartedAt: 2025-05-09 17:16:59 -0400 (Fri, 09 May 2025) EndedAt: 2025-05-09 17:19:55 -0400 (Fri, 09 May 2025) EllapsedTime: 176.9 seconds RetCode: 0 Status: OK PackageFile: OUTRIDER_1.27.0.tar.gz PackageFileSize: 2.494 MiB