Package: OTUbase Version: 1.57.0 Command: /home/biocbuild/bbs-3.21-bioc/R/bin/R CMD build --keep-empty-dirs --no-resave-data OTUbase StartedAt: 2025-02-03 18:40:45 -0500 (Mon, 03 Feb 2025) EndedAt: 2025-02-03 18:42:06 -0500 (Mon, 03 Feb 2025) EllapsedTime: 81.1 seconds RetCode: 0 Status: OK PackageFile: OTUbase_1.57.0.tar.gz PackageFileSize: 179.3 KiB