Package: OTUbase Version: 1.57.0 Command: /Library/Frameworks/R.framework/Resources/bin/R CMD INSTALL OTUbase StartedAt: 2025-02-03 15:23:20 -0500 (Mon, 03 Feb 2025) EndedAt: 2025-02-03 15:24:03 -0500 (Mon, 03 Feb 2025) EllapsedTime: 42.1 seconds RetCode: 0 Status: OK