Package: OTUbase Version: 1.57.0 Command: /home/biocbuild/R/R/bin/R CMD INSTALL OTUbase StartedAt: 2025-01-29 19:59:21 -0000 (Wed, 29 Jan 2025) EndedAt: 2025-01-29 20:00:03 -0000 (Wed, 29 Jan 2025) EllapsedTime: 41.9 seconds RetCode: 0 Status: OK