Package: OTUbase Version: 1.57.0 Command: /Library/Frameworks/R.framework/Resources/bin/R CMD check --install=check:OTUbase.install-out.txt --library=/Library/Frameworks/R.framework/Resources/library --no-vignettes --timings OTUbase_1.57.0.tar.gz StartedAt: 2025-02-03 21:08:46 -0500 (Mon, 03 Feb 2025) EndedAt: 2025-02-03 21:10:20 -0500 (Mon, 03 Feb 2025) EllapsedTime: 94.0 seconds RetCode: 0 Status: OK CheckDir: OTUbase.Rcheck Warnings: 0