Package: OTUbase Version: 1.57.0 Command: /Library/Frameworks/R.framework/Resources/bin/R CMD build --keep-empty-dirs --no-resave-data OTUbase StartedAt: 2025-02-03 17:47:11 -0500 (Mon, 03 Feb 2025) EndedAt: 2025-02-03 17:47:40 -0500 (Mon, 03 Feb 2025) EllapsedTime: 28.3 seconds RetCode: 0 Status: OK PackageFile: OTUbase_1.57.0.tar.gz PackageFileSize: 179 KiB