Package: ORFik Version: 1.29.7 Command: rm -rf ORFik.buildbin-libdir && mkdir ORFik.buildbin-libdir && F:\biocbuild\bbs-3.22-bioc\R\bin\R.exe CMD INSTALL --build --library=ORFik.buildbin-libdir ORFik_1.29.7.tar.gz StartedAt: 2025-08-15 10:53:49 -0400 (Fri, 15 Aug 2025) EndedAt: 2025-08-15 11:01:33 -0400 (Fri, 15 Aug 2025) EllapsedTime: 464.8 seconds RetCode: 0 Status: OK PackageFile: ORFik_1.29.7.zip PackageFileSize: 5.494 MiB