Package: ORFik Version: 1.29.5 Command: /Library/Frameworks/R.framework/Resources/bin/R CMD check --install=check:ORFik.install-out.txt --library=/Library/Frameworks/R.framework/Resources/library --no-vignettes --timings ORFik_1.29.5.tar.gz StartedAt: 2025-05-27 22:12:33 -0400 (Tue, 27 May 2025) EndedAt: 2025-05-27 22:23:10 -0400 (Tue, 27 May 2025) EllapsedTime: 636.9 seconds RetCode: 1 Status: ERROR CheckDir: ORFik.Rcheck Warnings: NA