Package: ORFhunteR Version: 1.17.0 Command: /home/biocbuild/bbs-3.22-bioc/R/bin/R CMD INSTALL ORFhunteR StartedAt: 2025-10-05 15:34:13 -0400 (Sun, 05 Oct 2025) EndedAt: 2025-10-05 15:34:56 -0400 (Sun, 05 Oct 2025) EllapsedTime: 43.1 seconds RetCode: 0 Status: OK