Package: ORFhunteR Version: 1.15.0 Command: /home/biocbuild/bbs-3.21-bioc/R/bin/R CMD INSTALL ORFhunteR StartedAt: 2025-01-10 15:20:30 -0500 (Fri, 10 Jan 2025) EndedAt: 2025-01-10 15:21:13 -0500 (Fri, 10 Jan 2025) EllapsedTime: 42.8 seconds RetCode: 0 Status: OK