Package: OPWeight Version: 1.31.0 Command: /home/biocbuild/bbs-3.22-bioc/R/bin/R CMD INSTALL OPWeight StartedAt: 2025-10-14 15:08:16 -0400 (Tue, 14 Oct 2025) EndedAt: 2025-10-14 15:08:30 -0400 (Tue, 14 Oct 2025) EllapsedTime: 14.2 seconds RetCode: 0 Status: OK