Package: OPWeight Version: 1.31.0 Command: /home/biocbuild/bbs-3.22-bioc/R/bin/R CMD build --keep-empty-dirs --no-resave-data --md5 OPWeight StartedAt: 2025-10-14 19:08:26 -0400 (Tue, 14 Oct 2025) EndedAt: 2025-10-14 19:10:47 -0400 (Tue, 14 Oct 2025) EllapsedTime: 141.1 seconds RetCode: 0 Status: OK PackageFile: OPWeight_1.31.0.tar.gz PackageFileSize: 548.7 KiB