Package: OMICsPCA Version: 1.27.1 Command: chmod a+r OMICsPCA -R && F:\biocbuild\bbs-3.22-bioc\R\bin\R.exe CMD build --keep-empty-dirs --no-resave-data OMICsPCA StartedAt: 2025-08-14 21:59:39 -0400 (Thu, 14 Aug 2025) EndedAt: 2025-08-14 22:21:30 -0400 (Thu, 14 Aug 2025) EllapsedTime: 1311.2 seconds RetCode: 0 Status: OK PackageFile: OMICsPCA_1.27.1.tar.gz PackageFileSize: 1.622 MiB