Package: OMICsPCA Version: 1.27.1 Command: rm -rf OMICsPCA.buildbin-libdir && mkdir OMICsPCA.buildbin-libdir && F:\biocbuild\bbs-3.22-bioc\R\bin\R.exe CMD INSTALL --build --library=OMICsPCA.buildbin-libdir OMICsPCA_1.27.1.tar.gz StartedAt: 2025-08-15 10:52:36 -0400 (Fri, 15 Aug 2025) EndedAt: 2025-08-15 10:53:47 -0400 (Fri, 15 Aug 2025) EllapsedTime: 70.7 seconds RetCode: 0 Status: OK PackageFile: OMICsPCA_1.27.1.zip PackageFileSize: 1.706 MiB