Package: OMICsPCA Version: 1.27.0 Command: /Library/Frameworks/R.framework/Resources/bin/R CMD INSTALL OMICsPCA StartedAt: 2025-05-06 15:42:48 -0400 (Tue, 06 May 2025) EndedAt: 2025-05-06 15:43:56 -0400 (Tue, 06 May 2025) EllapsedTime: 68.1 seconds RetCode: 0 Status: OK