Package: OMICsPCA Version: 1.27.0 Command: /Library/Frameworks/R.framework/Resources/bin/R CMD check --install=check:OMICsPCA.install-out.txt --library=/Library/Frameworks/R.framework/Resources/library --no-vignettes --timings OMICsPCA_1.27.0.tar.gz StartedAt: 2025-05-07 22:19:01 -0400 (Wed, 07 May 2025) EndedAt: 2025-05-07 22:27:06 -0400 (Wed, 07 May 2025) EllapsedTime: 484.5 seconds RetCode: 0 Status: OK CheckDir: OMICsPCA.Rcheck Warnings: 0